BEGIN:VCALENDAR
VERSION:2.0
METHOD:PUBLISH
PRODID:-//Agenda.ad//NONSGML v1.0//EN
BEGIN:VEVENT
CLASS:PUBLIC
UID:7ee10b41e8c8a9ab29051058f2e5c571@agenda.ad
DTSTAMP:20260422T043058Z
DTSTART:20190208T230000Z
DTEND:20190208T230000Z
SUMMARY:<span>'Hits',&nbsp;</span><span>Concert per a nadons</span>
DESCRIPTION:Concert familiar per a nadons i infants de 0 a 3 anys.\n\nMÃ
 ©s informaciÃ³\nhttps://www.agenda.ad/activitat/escaldes-eng
 ordany/musica/-hits-Â concert-per-a-nadons\nPer a mÃ©s
  informaciÃ³ truqueu al telÃ¨fonÂ 88 88 80.\
 n\nOrganitza\nFundaciÃ³ ONCA
LOCATION:Sala Prat del Roure
SEQUENCE:0
TRANSP:OPAQUE
X-ALT-DESC;FMTTYPE=text/html:<!DOCTYPE HTML PUBLIC "-//W3C//DTD HTML 3.2//EN"><HTML><HEAD
 ><TITLE></TITLE></HEAD><BODY><FONT FACE="Arial" SIZE=2><span
 >Concert familiar per a nadons i infants de 0 a 3 anys.</spa
 n><br/><br/><b>MÃ©s informaciÃ³</b><br/><a href="https://www
 .agenda.ad/activitat/escaldes-engordany/musica/-hits-Â conce
 rt-per-a-nadons">https://www.agenda.ad/activitat/escaldes-en
 gordany/musica/-hits-Â concert-per-a-nadons</a><br/>Per a m&
 eacute;s informaci&oacute; truqueu al tel&egrave;fon&nbsp;88
  88 80.<br/><br/><b>Organitza</b><br/>FundaciÃ³ ONCA</FONT><
 /BODY></HTML>
END:VEVENT
END:VCALENDAR